BEGIN:VCALENDAR
VERSION:2.0
PRODID:-//Tukios.com/
BEGIN:VEVENT
UID:64de67a0-a03c-4ef7-af6c-9ace11f2f60b@www.fostonfuneralhome.com
DTSTAMP:20260421T213051Z
DTSTART:20260430T170000Z
DTEND:20260430T180000Z
SUMMARY:Celebration of Life
DESCRIPTION:
URL:https://www.fostonfuneralhome.com/obituaries/john-young
LOCATION: 816 Franklin St  Clarksville TN 37040
GEO:36.5295985;-87.3482253
END:VEVENT
END:VCALENDAR