BEGIN:VCALENDAR
VERSION:2.0
PRODID:-//Tukios.com/
BEGIN:VEVENT
UID:2e3432d7-3342-42a1-a1fa-d1a637032102@www.fostonfuneralhome.com
DTSTAMP:20260421T212740Z
DTSTART:20260429T170000Z
DTEND:20260430T000000Z
SUMMARY:Visitation
DESCRIPTION:Family present 5:00 p.m.-7:00 p.m.
URL:https://www.fostonfuneralhome.com/obituaries/john-young
LOCATION: 816 Franklin St  Clarksville TN 37040
GEO:36.5295985;-87.3482253
END:VEVENT
END:VCALENDAR