BEGIN:VCALENDAR
VERSION:2.0
PRODID:-//Tukios.com/
BEGIN:VEVENT
UID:9249f975-58bd-4d03-a66f-f43e8940ecba@www.fostonfuneralhome.com
DTSTAMP:20260425T195634Z
DTSTART:20260502T170000Z
DTEND:20260502T180000Z
SUMMARY:Celebration of Life
DESCRIPTION:
URL:https://www.fostonfuneralhome.com/obituaries/james-baynham
LOCATION: 816 Franklin St  Clarksville TN 37040
GEO:36.5295985;-87.3482253
END:VEVENT
END:VCALENDAR