BEGIN:VCALENDAR
VERSION:2.0
PRODID:-//Tukios.com/
BEGIN:VEVENT
UID:894d1bfd-672f-4d56-8b6f-45e5305d3238@www.fostonfuneralhome.com
DTSTAMP:20260425T195853Z
DTSTART:20260502T160000Z
DTEND:20260502T170000Z
SUMMARY:Visitation
DESCRIPTION:
URL:https://www.fostonfuneralhome.com/obituaries/james-baynham
LOCATION: 816 Franklin St  Clarksville TN 37040
GEO:36.5295985;-87.3482253
END:VEVENT
END:VCALENDAR