BEGIN:VCALENDAR
VERSION:2.0
PRODID:-//Tukios.com/
BEGIN:VEVENT
UID:99b13882-ff4a-438d-8d2e-01579cb8150b@www.fostonfuneralhome.com
DTSTAMP:20260422T004348Z
DTSTART:20260505T160000Z
DTEND:20260505T170000Z
SUMMARY:Funeral Service
DESCRIPTION:
URL:https://www.fostonfuneralhome.com/obituaries/arthur-pickett-jr
LOCATION: 816 Franklin St  Clarksville TN 37040
GEO:36.5295985;-87.3482253
END:VEVENT
END:VCALENDAR