BEGIN:VCALENDAR
VERSION:2.0
PRODID:-//Tukios.com/
BEGIN:VEVENT
UID:a48792c8-c10b-49fe-930f-7d04d7b84f41@www.fostonfuneralhome.com
DTSTAMP:20260422T004948Z
DTSTART:20260504T170000Z
DTEND:20260505T000000Z
SUMMARY:Visitation
DESCRIPTION:Family present 5:00 p.m.-7:00 p.m.
URL:https://www.fostonfuneralhome.com/obituaries/arthur-pickett-jr
LOCATION: 816 Franklin St  Clarksville TN 37040
GEO:36.5295985;-87.3482253
END:VEVENT
END:VCALENDAR